BEGIN:VCALENDAR
VERSION:2.0
PRODID:-//Ebenezer A.M.E. Church - ECPv6.15.20//NONSGML v1.0//EN
CALSCALE:GREGORIAN
METHOD:PUBLISH
X-WR-CALNAME:Ebenezer A.M.E. Church
X-ORIGINAL-URL:https://ebenezerame.org
X-WR-CALDESC:Events for Ebenezer A.M.E. Church
REFRESH-INTERVAL;VALUE=DURATION:PT1H
X-Robots-Tag:noindex
X-PUBLISHED-TTL:PT1H
BEGIN:VTIMEZONE
TZID:America/New_York
BEGIN:DAYLIGHT
TZOFFSETFROM:-0500
TZOFFSETTO:-0400
TZNAME:EDT
DTSTART:20240310T070000
END:DAYLIGHT
BEGIN:STANDARD
TZOFFSETFROM:-0400
TZOFFSETTO:-0500
TZNAME:EST
DTSTART:20241103T060000
END:STANDARD
BEGIN:DAYLIGHT
TZOFFSETFROM:-0500
TZOFFSETTO:-0400
TZNAME:EDT
DTSTART:20250309T070000
END:DAYLIGHT
BEGIN:STANDARD
TZOFFSETFROM:-0400
TZOFFSETTO:-0500
TZNAME:EST
DTSTART:20251102T060000
END:STANDARD
BEGIN:DAYLIGHT
TZOFFSETFROM:-0500
TZOFFSETTO:-0400
TZNAME:EDT
DTSTART:20260308T070000
END:DAYLIGHT
BEGIN:STANDARD
TZOFFSETFROM:-0400
TZOFFSETTO:-0500
TZNAME:EST
DTSTART:20261101T060000
END:STANDARD
END:VTIMEZONE
BEGIN:VEVENT
DTSTART;TZID=America/New_York:20250903T190000
DTEND;TZID=America/New_York:20250903T200000
DTSTAMP:20260424T153722
CREATED:20250201T164210Z
LAST-MODIFIED:20250201T164210Z
UID:86290-1756926000-1756929600@ebenezerame.org
SUMMARY:Churchwide Bible Study - Virtual Only
DESCRIPTION:Join us every Wednesday at 7 p.m. ET for Churchwide Bible Study. Bible Study is held virtually only. Stream LIVE on ebenezerame.org\, live.ebenezerame.org or on Ebenezer AME Church’s YouTube Channel
URL:https://ebenezerame.org/event/churchwide-bible-study-virtual-only-2/2025-09-03/
ATTACH;FMTTYPE=image/jpeg:https://ebenezerame.org/wp-content/uploads/2023/01/BibleStudy-Screen-1-1.jpg
END:VEVENT
BEGIN:VEVENT
DTSTART;TZID=America/New_York:20250827T190000
DTEND;TZID=America/New_York:20250827T200000
DTSTAMP:20260424T153722
CREATED:20250201T164210Z
LAST-MODIFIED:20250201T164210Z
UID:86289-1756321200-1756324800@ebenezerame.org
SUMMARY:Churchwide Bible Study - Virtual Only
DESCRIPTION:Join us every Wednesday at 7 p.m. ET for Churchwide Bible Study. Bible Study is held virtually only. Stream LIVE on ebenezerame.org\, live.ebenezerame.org or on Ebenezer AME Church’s YouTube Channel
URL:https://ebenezerame.org/event/churchwide-bible-study-virtual-only-2/2025-08-27/
ATTACH;FMTTYPE=image/jpeg:https://ebenezerame.org/wp-content/uploads/2023/01/BibleStudy-Screen-1-1.jpg
END:VEVENT
BEGIN:VEVENT
DTSTART;TZID=America/New_York:20250820T190000
DTEND;TZID=America/New_York:20250820T200000
DTSTAMP:20260424T153722
CREATED:20250201T164210Z
LAST-MODIFIED:20250201T164210Z
UID:86288-1755716400-1755720000@ebenezerame.org
SUMMARY:Churchwide Bible Study - Virtual Only
DESCRIPTION:Join us every Wednesday at 7 p.m. ET for Churchwide Bible Study. Bible Study is held virtually only. Stream LIVE on ebenezerame.org\, live.ebenezerame.org or on Ebenezer AME Church’s YouTube Channel
URL:https://ebenezerame.org/event/churchwide-bible-study-virtual-only-2/2025-08-20/
ATTACH;FMTTYPE=image/jpeg:https://ebenezerame.org/wp-content/uploads/2023/01/BibleStudy-Screen-1-1.jpg
END:VEVENT
BEGIN:VEVENT
DTSTART;TZID=America/New_York:20250813T190000
DTEND;TZID=America/New_York:20250813T200000
DTSTAMP:20260424T153722
CREATED:20250201T164210Z
LAST-MODIFIED:20250201T164210Z
UID:86287-1755111600-1755115200@ebenezerame.org
SUMMARY:Churchwide Bible Study - Virtual Only
DESCRIPTION:Join us every Wednesday at 7 p.m. ET for Churchwide Bible Study. Bible Study is held virtually only. Stream LIVE on ebenezerame.org\, live.ebenezerame.org or on Ebenezer AME Church’s YouTube Channel
URL:https://ebenezerame.org/event/churchwide-bible-study-virtual-only-2/2025-08-13/
ATTACH;FMTTYPE=image/jpeg:https://ebenezerame.org/wp-content/uploads/2023/01/BibleStudy-Screen-1-1.jpg
END:VEVENT
BEGIN:VEVENT
DTSTART;TZID=America/New_York:20250806T190000
DTEND;TZID=America/New_York:20250806T200000
DTSTAMP:20260424T153722
CREATED:20250201T164210Z
LAST-MODIFIED:20250201T164210Z
UID:86286-1754506800-1754510400@ebenezerame.org
SUMMARY:Churchwide Bible Study - Virtual Only
DESCRIPTION:Join us every Wednesday at 7 p.m. ET for Churchwide Bible Study. Bible Study is held virtually only. Stream LIVE on ebenezerame.org\, live.ebenezerame.org or on Ebenezer AME Church’s YouTube Channel
URL:https://ebenezerame.org/event/churchwide-bible-study-virtual-only-2/2025-08-06/
ATTACH;FMTTYPE=image/jpeg:https://ebenezerame.org/wp-content/uploads/2023/01/BibleStudy-Screen-1-1.jpg
END:VEVENT
BEGIN:VEVENT
DTSTART;TZID=America/New_York:20250730T190000
DTEND;TZID=America/New_York:20250730T200000
DTSTAMP:20260424T153722
CREATED:20250201T164210Z
LAST-MODIFIED:20250201T164210Z
UID:86285-1753902000-1753905600@ebenezerame.org
SUMMARY:Churchwide Bible Study - Virtual Only
DESCRIPTION:Join us every Wednesday at 7 p.m. ET for Churchwide Bible Study. Bible Study is held virtually only. Stream LIVE on ebenezerame.org\, live.ebenezerame.org or on Ebenezer AME Church’s YouTube Channel
URL:https://ebenezerame.org/event/churchwide-bible-study-virtual-only-2/2025-07-30/
ATTACH;FMTTYPE=image/jpeg:https://ebenezerame.org/wp-content/uploads/2023/01/BibleStudy-Screen-1-1.jpg
END:VEVENT
BEGIN:VEVENT
DTSTART;TZID=America/New_York:20250723T190000
DTEND;TZID=America/New_York:20250723T200000
DTSTAMP:20260424T153722
CREATED:20250201T164210Z
LAST-MODIFIED:20250201T164210Z
UID:86284-1753297200-1753300800@ebenezerame.org
SUMMARY:Churchwide Bible Study - Virtual Only
DESCRIPTION:Join us every Wednesday at 7 p.m. ET for Churchwide Bible Study. Bible Study is held virtually only. Stream LIVE on ebenezerame.org\, live.ebenezerame.org or on Ebenezer AME Church’s YouTube Channel
URL:https://ebenezerame.org/event/churchwide-bible-study-virtual-only-2/2025-07-23/
ATTACH;FMTTYPE=image/jpeg:https://ebenezerame.org/wp-content/uploads/2023/01/BibleStudy-Screen-1-1.jpg
END:VEVENT
BEGIN:VEVENT
DTSTART;TZID=America/New_York:20250716T190000
DTEND;TZID=America/New_York:20250716T200000
DTSTAMP:20260424T153722
CREATED:20250201T164210Z
LAST-MODIFIED:20250201T164210Z
UID:86283-1752692400-1752696000@ebenezerame.org
SUMMARY:Churchwide Bible Study - Virtual Only
DESCRIPTION:Join us every Wednesday at 7 p.m. ET for Churchwide Bible Study. Bible Study is held virtually only. Stream LIVE on ebenezerame.org\, live.ebenezerame.org or on Ebenezer AME Church’s YouTube Channel
URL:https://ebenezerame.org/event/churchwide-bible-study-virtual-only-2/2025-07-16/
ATTACH;FMTTYPE=image/jpeg:https://ebenezerame.org/wp-content/uploads/2023/01/BibleStudy-Screen-1-1.jpg
END:VEVENT
BEGIN:VEVENT
DTSTART;TZID=America/New_York:20250709T190000
DTEND;TZID=America/New_York:20250709T200000
DTSTAMP:20260424T153722
CREATED:20250201T164210Z
LAST-MODIFIED:20250201T164210Z
UID:86282-1752087600-1752091200@ebenezerame.org
SUMMARY:Churchwide Bible Study - Virtual Only
DESCRIPTION:Join us every Wednesday at 7 p.m. ET for Churchwide Bible Study. Bible Study is held virtually only. Stream LIVE on ebenezerame.org\, live.ebenezerame.org or on Ebenezer AME Church’s YouTube Channel
URL:https://ebenezerame.org/event/churchwide-bible-study-virtual-only-2/2025-07-09/
ATTACH;FMTTYPE=image/jpeg:https://ebenezerame.org/wp-content/uploads/2023/01/BibleStudy-Screen-1-1.jpg
END:VEVENT
BEGIN:VEVENT
DTSTART;TZID=America/New_York:20250702T190000
DTEND;TZID=America/New_York:20250702T200000
DTSTAMP:20260424T153722
CREATED:20250201T164210Z
LAST-MODIFIED:20250201T164210Z
UID:86281-1751482800-1751486400@ebenezerame.org
SUMMARY:Churchwide Bible Study - Virtual Only
DESCRIPTION:Join us every Wednesday at 7 p.m. ET for Churchwide Bible Study. Bible Study is held virtually only. Stream LIVE on ebenezerame.org\, live.ebenezerame.org or on Ebenezer AME Church’s YouTube Channel
URL:https://ebenezerame.org/event/churchwide-bible-study-virtual-only-2/2025-07-02/
ATTACH;FMTTYPE=image/jpeg:https://ebenezerame.org/wp-content/uploads/2023/01/BibleStudy-Screen-1-1.jpg
END:VEVENT
BEGIN:VEVENT
DTSTART;TZID=America/New_York:20250625T190000
DTEND;TZID=America/New_York:20250625T200000
DTSTAMP:20260424T153722
CREATED:20250201T164210Z
LAST-MODIFIED:20250201T164210Z
UID:86280-1750878000-1750881600@ebenezerame.org
SUMMARY:Churchwide Bible Study - Virtual Only
DESCRIPTION:Join us every Wednesday at 7 p.m. ET for Churchwide Bible Study. Bible Study is held virtually only. Stream LIVE on ebenezerame.org\, live.ebenezerame.org or on Ebenezer AME Church’s YouTube Channel
URL:https://ebenezerame.org/event/churchwide-bible-study-virtual-only-2/2025-06-25/
ATTACH;FMTTYPE=image/jpeg:https://ebenezerame.org/wp-content/uploads/2023/01/BibleStudy-Screen-1-1.jpg
END:VEVENT
BEGIN:VEVENT
DTSTART;TZID=America/New_York:20250618T190000
DTEND;TZID=America/New_York:20250618T200000
DTSTAMP:20260424T153722
CREATED:20250201T164210Z
LAST-MODIFIED:20250201T164210Z
UID:86279-1750273200-1750276800@ebenezerame.org
SUMMARY:Churchwide Bible Study - Virtual Only
DESCRIPTION:Join us every Wednesday at 7 p.m. ET for Churchwide Bible Study. Bible Study is held virtually only. Stream LIVE on ebenezerame.org\, live.ebenezerame.org or on Ebenezer AME Church’s YouTube Channel
URL:https://ebenezerame.org/event/churchwide-bible-study-virtual-only-2/2025-06-18/
ATTACH;FMTTYPE=image/jpeg:https://ebenezerame.org/wp-content/uploads/2023/01/BibleStudy-Screen-1-1.jpg
END:VEVENT
BEGIN:VEVENT
DTSTART;TZID=America/New_York:20250611T190000
DTEND;TZID=America/New_York:20250611T200000
DTSTAMP:20260424T153722
CREATED:20250201T164210Z
LAST-MODIFIED:20250201T164210Z
UID:86278-1749668400-1749672000@ebenezerame.org
SUMMARY:Churchwide Bible Study - Virtual Only
DESCRIPTION:Join us every Wednesday at 7 p.m. ET for Churchwide Bible Study. Bible Study is held virtually only. Stream LIVE on ebenezerame.org\, live.ebenezerame.org or on Ebenezer AME Church’s YouTube Channel
URL:https://ebenezerame.org/event/churchwide-bible-study-virtual-only-2/2025-06-11/
ATTACH;FMTTYPE=image/jpeg:https://ebenezerame.org/wp-content/uploads/2023/01/BibleStudy-Screen-1-1.jpg
END:VEVENT
BEGIN:VEVENT
DTSTART;TZID=America/New_York:20250604T190000
DTEND;TZID=America/New_York:20250604T200000
DTSTAMP:20260424T153722
CREATED:20250201T164210Z
LAST-MODIFIED:20250201T164210Z
UID:86277-1749063600-1749067200@ebenezerame.org
SUMMARY:Churchwide Bible Study - Virtual Only
DESCRIPTION:Join us every Wednesday at 7 p.m. ET for Churchwide Bible Study. Bible Study is held virtually only. Stream LIVE on ebenezerame.org\, live.ebenezerame.org or on Ebenezer AME Church’s YouTube Channel
URL:https://ebenezerame.org/event/churchwide-bible-study-virtual-only-2/2025-06-04/
ATTACH;FMTTYPE=image/jpeg:https://ebenezerame.org/wp-content/uploads/2023/01/BibleStudy-Screen-1-1.jpg
END:VEVENT
BEGIN:VEVENT
DTSTART;TZID=America/New_York:20250528T190000
DTEND;TZID=America/New_York:20250528T200000
DTSTAMP:20260424T153722
CREATED:20250201T164210Z
LAST-MODIFIED:20250201T164210Z
UID:86276-1748458800-1748462400@ebenezerame.org
SUMMARY:Churchwide Bible Study - Virtual Only
DESCRIPTION:Join us every Wednesday at 7 p.m. ET for Churchwide Bible Study. Bible Study is held virtually only. Stream LIVE on ebenezerame.org\, live.ebenezerame.org or on Ebenezer AME Church’s YouTube Channel
URL:https://ebenezerame.org/event/churchwide-bible-study-virtual-only-2/2025-05-28/
ATTACH;FMTTYPE=image/jpeg:https://ebenezerame.org/wp-content/uploads/2023/01/BibleStudy-Screen-1-1.jpg
END:VEVENT
BEGIN:VEVENT
DTSTART;TZID=America/New_York:20250521T190000
DTEND;TZID=America/New_York:20250521T200000
DTSTAMP:20260424T153722
CREATED:20250201T164210Z
LAST-MODIFIED:20250201T164210Z
UID:86275-1747854000-1747857600@ebenezerame.org
SUMMARY:Churchwide Bible Study - Virtual Only
DESCRIPTION:Join us every Wednesday at 7 p.m. ET for Churchwide Bible Study. Bible Study is held virtually only. Stream LIVE on ebenezerame.org\, live.ebenezerame.org or on Ebenezer AME Church’s YouTube Channel
URL:https://ebenezerame.org/event/churchwide-bible-study-virtual-only-2/2025-05-21/
ATTACH;FMTTYPE=image/jpeg:https://ebenezerame.org/wp-content/uploads/2023/01/BibleStudy-Screen-1-1.jpg
END:VEVENT
BEGIN:VEVENT
DTSTART;TZID=America/New_York:20250514T190000
DTEND;TZID=America/New_York:20250514T200000
DTSTAMP:20260424T153722
CREATED:20250201T164210Z
LAST-MODIFIED:20250201T164210Z
UID:86274-1747249200-1747252800@ebenezerame.org
SUMMARY:Churchwide Bible Study - Virtual Only
DESCRIPTION:Join us every Wednesday at 7 p.m. ET for Churchwide Bible Study. Bible Study is held virtually only. Stream LIVE on ebenezerame.org\, live.ebenezerame.org or on Ebenezer AME Church’s YouTube Channel
URL:https://ebenezerame.org/event/churchwide-bible-study-virtual-only-2/2025-05-14/
ATTACH;FMTTYPE=image/jpeg:https://ebenezerame.org/wp-content/uploads/2023/01/BibleStudy-Screen-1-1.jpg
END:VEVENT
BEGIN:VEVENT
DTSTART;TZID=America/New_York:20250507T190000
DTEND;TZID=America/New_York:20250507T200000
DTSTAMP:20260424T153722
CREATED:20250201T164210Z
LAST-MODIFIED:20250201T164210Z
UID:86273-1746644400-1746648000@ebenezerame.org
SUMMARY:Churchwide Bible Study - Virtual Only
DESCRIPTION:Join us every Wednesday at 7 p.m. ET for Churchwide Bible Study. Bible Study is held virtually only. Stream LIVE on ebenezerame.org\, live.ebenezerame.org or on Ebenezer AME Church’s YouTube Channel
URL:https://ebenezerame.org/event/churchwide-bible-study-virtual-only-2/2025-05-07/
ATTACH;FMTTYPE=image/jpeg:https://ebenezerame.org/wp-content/uploads/2023/01/BibleStudy-Screen-1-1.jpg
END:VEVENT
BEGIN:VEVENT
DTSTART;TZID=America/New_York:20250430T190000
DTEND;TZID=America/New_York:20250430T200000
DTSTAMP:20260424T153722
CREATED:20250201T164210Z
LAST-MODIFIED:20250201T164210Z
UID:86272-1746039600-1746043200@ebenezerame.org
SUMMARY:Churchwide Bible Study - Virtual Only
DESCRIPTION:Join us every Wednesday at 7 p.m. ET for Churchwide Bible Study. Bible Study is held virtually only. Stream LIVE on ebenezerame.org\, live.ebenezerame.org or on Ebenezer AME Church’s YouTube Channel
URL:https://ebenezerame.org/event/churchwide-bible-study-virtual-only-2/2025-04-30/
ATTACH;FMTTYPE=image/jpeg:https://ebenezerame.org/wp-content/uploads/2023/01/BibleStudy-Screen-1-1.jpg
END:VEVENT
BEGIN:VEVENT
DTSTART;TZID=America/New_York:20250423T190000
DTEND;TZID=America/New_York:20250423T200000
DTSTAMP:20260424T153722
CREATED:20250201T164210Z
LAST-MODIFIED:20250201T164210Z
UID:86271-1745434800-1745438400@ebenezerame.org
SUMMARY:Churchwide Bible Study - Virtual Only
DESCRIPTION:Join us every Wednesday at 7 p.m. ET for Churchwide Bible Study. Bible Study is held virtually only. Stream LIVE on ebenezerame.org\, live.ebenezerame.org or on Ebenezer AME Church’s YouTube Channel
URL:https://ebenezerame.org/event/churchwide-bible-study-virtual-only-2/2025-04-23/
ATTACH;FMTTYPE=image/jpeg:https://ebenezerame.org/wp-content/uploads/2023/01/BibleStudy-Screen-1-1.jpg
END:VEVENT
BEGIN:VEVENT
DTSTART;TZID=America/New_York:20250416T190000
DTEND;TZID=America/New_York:20250416T200000
DTSTAMP:20260424T153722
CREATED:20250201T164210Z
LAST-MODIFIED:20250201T164210Z
UID:86269-1744830000-1744833600@ebenezerame.org
SUMMARY:Churchwide Bible Study - Virtual Only
DESCRIPTION:Join us every Wednesday at 7 p.m. ET for Churchwide Bible Study. Bible Study is held virtually only. Stream LIVE on ebenezerame.org\, live.ebenezerame.org or on Ebenezer AME Church’s YouTube Channel
URL:https://ebenezerame.org/event/churchwide-bible-study-virtual-only-2/2025-04-16/
ATTACH;FMTTYPE=image/jpeg:https://ebenezerame.org/wp-content/uploads/2023/01/BibleStudy-Screen-1-1.jpg
END:VEVENT
BEGIN:VEVENT
DTSTART;TZID=America/New_York:20250305T190000
DTEND;TZID=America/New_York:20250305T200000
DTSTAMP:20260424T153722
CREATED:20250201T164210Z
LAST-MODIFIED:20250201T164210Z
UID:86263-1741201200-1741204800@ebenezerame.org
SUMMARY:Churchwide Bible Study - Virtual Only
DESCRIPTION:Join us every Wednesday at 7 p.m. ET for Churchwide Bible Study. Bible Study is held virtually only. Stream LIVE on ebenezerame.org\, live.ebenezerame.org or on Ebenezer AME Church’s YouTube Channel
URL:https://ebenezerame.org/event/churchwide-bible-study-virtual-only-2/2025-03-05/
ATTACH;FMTTYPE=image/jpeg:https://ebenezerame.org/wp-content/uploads/2023/01/BibleStudy-Screen-1-1.jpg
END:VEVENT
BEGIN:VEVENT
DTSTART;TZID=America/New_York:20250226T190000
DTEND;TZID=America/New_York:20250226T200000
DTSTAMP:20260424T153722
CREATED:20250201T164210Z
LAST-MODIFIED:20250201T164210Z
UID:86262-1740596400-1740600000@ebenezerame.org
SUMMARY:Churchwide Bible Study - Virtual Only
DESCRIPTION:Join us every Wednesday at 7 p.m. ET for Churchwide Bible Study. Bible Study is held virtually only. Stream LIVE on ebenezerame.org\, live.ebenezerame.org or on Ebenezer AME Church’s YouTube Channel
URL:https://ebenezerame.org/event/churchwide-bible-study-virtual-only-2/2025-02-26/
ATTACH;FMTTYPE=image/jpeg:https://ebenezerame.org/wp-content/uploads/2023/01/BibleStudy-Screen-1-1.jpg
END:VEVENT
BEGIN:VEVENT
DTSTART;TZID=America/New_York:20250219T190000
DTEND;TZID=America/New_York:20250219T200000
DTSTAMP:20260424T153722
CREATED:20250201T164210Z
LAST-MODIFIED:20250201T164210Z
UID:86261-1739991600-1739995200@ebenezerame.org
SUMMARY:Churchwide Bible Study - Virtual Only
DESCRIPTION:Join us every Wednesday at 7 p.m. ET for Churchwide Bible Study. Bible Study is held virtually only. Stream LIVE on ebenezerame.org\, live.ebenezerame.org or on Ebenezer AME Church’s YouTube Channel
URL:https://ebenezerame.org/event/churchwide-bible-study-virtual-only-2/2025-02-19/
ATTACH;FMTTYPE=image/jpeg:https://ebenezerame.org/wp-content/uploads/2023/01/BibleStudy-Screen-1-1.jpg
END:VEVENT
BEGIN:VEVENT
DTSTART;TZID=America/New_York:20250212T190000
DTEND;TZID=America/New_York:20250212T200000
DTSTAMP:20260424T153722
CREATED:20250201T164210Z
LAST-MODIFIED:20250201T164210Z
UID:86260-1739386800-1739390400@ebenezerame.org
SUMMARY:Churchwide Bible Study - Virtual Only
DESCRIPTION:Join us every Wednesday at 7 p.m. ET for Churchwide Bible Study. Bible Study is held virtually only. Stream LIVE on ebenezerame.org\, live.ebenezerame.org or on Ebenezer AME Church’s YouTube Channel
URL:https://ebenezerame.org/event/churchwide-bible-study-virtual-only-2/2025-02-12/
ATTACH;FMTTYPE=image/jpeg:https://ebenezerame.org/wp-content/uploads/2023/01/BibleStudy-Screen-1-1.jpg
END:VEVENT
BEGIN:VEVENT
DTSTART;TZID=America/New_York:20250205T190000
DTEND;TZID=America/New_York:20250205T200000
DTSTAMP:20260424T153722
CREATED:20250201T164210Z
LAST-MODIFIED:20250201T164210Z
UID:86259-1738782000-1738785600@ebenezerame.org
SUMMARY:Churchwide Bible Study - Virtual Only
DESCRIPTION:Join us every Wednesday at 7 p.m. ET for Churchwide Bible Study. Bible Study is held virtually only. Stream LIVE on ebenezerame.org\, live.ebenezerame.org or on Ebenezer AME Church’s YouTube Channel
URL:https://ebenezerame.org/event/churchwide-bible-study-virtual-only-2/2025-02-05/
ATTACH;FMTTYPE=image/jpeg:https://ebenezerame.org/wp-content/uploads/2023/01/BibleStudy-Screen-1-1.jpg
END:VEVENT
END:VCALENDAR